BEGIN:VCALENDAR
VERSION:2.0
PRODID:icalendar-ruby
CALSCALE:GREGORIAN
METHOD:PUBLISH
BEGIN:VEVENT
DTSTAMP:20260422T101200Z
UID:36-1423671@remnantchurchav.com
DTSTART:20260802T183000Z
DTEND:20260802T203000Z
CLASS:PUBLIC
CREATED:20260421T182710
DESCRIPTION:
LAST-MODIFIED:20260421T182710
LOCATION:44339 Beech Ave\, Lancaster\, CA 93534
SUMMARY:11:30 Service
URL;VALUE=URI:https://www.remnantchurchav.com/events/11-30-service/2026-08-
 02
ATTACH;FILENAME=Copy-of-App-Background-%28Outdoor-Banner-%2872-in-x-36-in%2
 9%29.jpg;FMTTYPE=image/jpeg:https://dq5pwpg1q8ru0.cloudfront.net/2026/04/1
 3/18/41/01/889e27a7-d322-4d1a-971b-65c9fc860872/Copy-of-App-Background-%25
 28Outdoor-Banner-%252872-in-x-36-in%2529%2529.jpg
END:VEVENT
END:VCALENDAR
