BEGIN:VCALENDAR
VERSION:2.0
PRODID:icalendar-ruby
CALSCALE:GREGORIAN
METHOD:PUBLISH
BEGIN:VEVENT
DTSTAMP:20260420T115452Z
UID:21-1419206@remnantchurchav.com
DTSTART:20260804T180000Z
DTEND:20260804T183000Z
CLASS:PUBLIC
CREATED:20260420T003910
DESCRIPTION:Connect with us by calling\n 425-436-6340 \ncode: 1730721#
LAST-MODIFIED:20260420T003910
LOCATION:
SUMMARY:Prayer Line
URL;VALUE=URI:https://www.remnantchurchav.com/events/prayer-line--21/2026-0
 8-04
ATTACH;FILENAME=prayer.png;FMTTYPE=image/png:https://dq5pwpg1q8ru0.cloudfro
 nt.net/2026/04/06/19/50/43/9bb6db80-9d57-4fa1-a392-dfafd6f2cd20/prayer.png
END:VEVENT
END:VCALENDAR
