BEGIN:VCALENDAR
VERSION:2.0
PRODID:icalendar-ruby
CALSCALE:GREGORIAN
METHOD:PUBLISH
BEGIN:VEVENT
DTSTAMP:20260423T054438Z
UID:21-1425835@remnantchurchav.com
DTSTART:20261103T190000Z
DTEND:20261103T193000Z
CLASS:PUBLIC
CREATED:20260422T200547
DESCRIPTION:Connect with us by calling\n 425-436-6340 \ncode: 1730721#
LAST-MODIFIED:20260422T200547
LOCATION:
SUMMARY:Prayer Line
URL;VALUE=URI:https://www.remnantchurchav.com/events/prayer-line--21/2026-1
 1-03
ATTACH;FILENAME=prayer.png;FMTTYPE=image/png:https://dq5pwpg1q8ru0.cloudfro
 nt.net/2026/04/06/19/50/43/9bb6db80-9d57-4fa1-a392-dfafd6f2cd20/prayer.png
END:VEVENT
END:VCALENDAR
