BEGIN:VCALENDAR
VERSION:2.0
PRODID:icalendar-ruby
CALSCALE:GREGORIAN
METHOD:PUBLISH
BEGIN:VEVENT
DTSTAMP:20260423T021044Z
UID:8-1425235@remnantchurchav.com
DTSTART:20260924T180000Z
DTEND:20260924T190000Z
CLASS:PUBLIC
CREATED:20260422T171130
DESCRIPTION:
LAST-MODIFIED:20260422T171130
LOCATION:
SUMMARY:Prayer Line
URL;VALUE=URI:https://www.remnantchurchav.com/events/prayer-line--8/2026-09
 -24
ATTACH;FILENAME=prayer.png;FMTTYPE=image/png:https://dq5pwpg1q8ru0.cloudfro
 nt.net/2026/04/06/19/52/43/099d143d-310b-48f8-9e29-c8eaba7958f5/prayer.png
END:VEVENT
END:VCALENDAR
