BEGIN:VCALENDAR
VERSION:2.0
PRODID:icalendar-ruby
CALSCALE:GREGORIAN
METHOD:PUBLISH
BEGIN:VEVENT
DTSTAMP:20260423T072224Z
UID:8-1425606@remnantchurchav.com
DTSTART:20261015T180000Z
DTEND:20261015T190000Z
CLASS:PUBLIC
CREATED:20260422T200546
DESCRIPTION:
LAST-MODIFIED:20260422T200546
LOCATION:
SUMMARY:Prayer Line
URL;VALUE=URI:https://www.remnantchurchav.com/events/prayer-line--8/2026-10
 -15
ATTACH;FILENAME=prayer.png;FMTTYPE=image/png:https://dq5pwpg1q8ru0.cloudfro
 nt.net/2026/04/06/19/52/43/099d143d-310b-48f8-9e29-c8eaba7958f5/prayer.png
END:VEVENT
END:VCALENDAR
