BEGIN:VCALENDAR
VERSION:2.0
PRODID:icalendar-ruby
CALSCALE:GREGORIAN
METHOD:PUBLISH
BEGIN:VEVENT
DTSTAMP:20260424T222746Z
UID:9-1429397@remnantchurchav.com
DTSTART:20261015T020000Z
DTEND:20261015T030000Z
CLASS:PUBLIC
CREATED:20260424T140212
DESCRIPTION:Small group bible study for:\n\nMen\nWomen\nChildren’s Church
 \nYouth &amp\; Young Adults\n
LAST-MODIFIED:20260424T140212
LOCATION:44339 Beech Ave\, Lancaster\, CA 93534
SUMMARY:Small Groups
URL;VALUE=URI:https://www.remnantchurchav.com/events/small-groups/2026-10-1
 4
ATTACH;FILENAME=Squad-Up.jpg;FMTTYPE=image/jpeg:https://dq5pwpg1q8ru0.cloud
 front.net/2026/02/09/20/28/54/80dd9ffe-c565-459a-919d-c36fce964628/Squad-U
 p.jpg
END:VEVENT
END:VCALENDAR
